BEGIN:VCALENDAR
VERSION:2.0
PRODID:-//Ecole de Rugby de Brignon - ECPv6.15.20//NONSGML v1.0//EN
CALSCALE:GREGORIAN
METHOD:PUBLISH
X-WR-CALNAME:Ecole de Rugby de Brignon
X-ORIGINAL-URL:https://rugby-brignon.fr
X-WR-CALDESC:Évènements pour Ecole de Rugby de Brignon
REFRESH-INTERVAL;VALUE=DURATION:PT1H
X-Robots-Tag:noindex
X-PUBLISHED-TTL:PT1H
BEGIN:VTIMEZONE
TZID:Europe/Paris
BEGIN:DAYLIGHT
TZOFFSETFROM:+0100
TZOFFSETTO:+0200
TZNAME:CEST
DTSTART:20230326T010000
END:DAYLIGHT
BEGIN:STANDARD
TZOFFSETFROM:+0200
TZOFFSETTO:+0100
TZNAME:CET
DTSTART:20231029T010000
END:STANDARD
BEGIN:DAYLIGHT
TZOFFSETFROM:+0100
TZOFFSETTO:+0200
TZNAME:CEST
DTSTART:20240331T010000
END:DAYLIGHT
BEGIN:STANDARD
TZOFFSETFROM:+0200
TZOFFSETTO:+0100
TZNAME:CET
DTSTART:20241027T010000
END:STANDARD
BEGIN:DAYLIGHT
TZOFFSETFROM:+0100
TZOFFSETTO:+0200
TZNAME:CEST
DTSTART:20250330T010000
END:DAYLIGHT
BEGIN:STANDARD
TZOFFSETFROM:+0200
TZOFFSETTO:+0100
TZNAME:CET
DTSTART:20251026T010000
END:STANDARD
END:VTIMEZONE
BEGIN:VEVENT
DTSTART;TZID=Europe/Paris:20240601T130000
DTEND;TZID=Europe/Paris:20240601T170000
DTSTAMP:20260422T031753
CREATED:20240124T224816Z
LAST-MODIFIED:20240124T224816Z
UID:1630-1717246800-1717261200@rugby-brignon.fr
SUMMARY:M6 Tournoi départemental à Beaucaire
DESCRIPTION:
URL:https://rugby-brignon.fr/evenement/m6-tournoi-departemental-a-beaucaire/
CATEGORIES:M6
END:VEVENT
BEGIN:VEVENT
DTSTART;TZID=Europe/Paris:20240608T080000
DTEND;TZID=Europe/Paris:20240609T170000
DTSTAMP:20260422T031753
CREATED:20231024T201637Z
LAST-MODIFIED:20231024T201637Z
UID:1240-1717833600-1717952400@rugby-brignon.fr
SUMMARY:🥳Stage de Perfectionnement Technique
DESCRIPTION:
URL:https://rugby-brignon.fr/evenement/%f0%9f%a5%b3stage-de-perfectionnement-technique/
CATEGORIES:M10,M12,M14,M6,M8
END:VEVENT
BEGIN:VEVENT
DTSTART;TZID=Europe/Paris:20240622T080000
DTEND;TZID=Europe/Paris:20240622T210000
DTSTAMP:20260422T031753
CREATED:20231024T201734Z
LAST-MODIFIED:20231024T201734Z
UID:1242-1719043200-1719090000@rugby-brignon.fr
SUMMARY:🥳Fête du Club
DESCRIPTION:
URL:https://rugby-brignon.fr/evenement/%f0%9f%a5%b3fete-du-club/
CATEGORIES:Baby,Cadets,École de rugby,Juniors,Loisirs,M10,M12,M14,M6,M8,Toucher
END:VEVENT
END:VCALENDAR